BEGIN:VCALENDAR
VERSION:2.0
PRODID:-//Banner Elk Presbyterian Church - ECPv6.15.20//NONSGML v1.0//EN
CALSCALE:GREGORIAN
METHOD:PUBLISH
X-ORIGINAL-URL:https://bannerelkpresbyterian.org
X-WR-CALDESC:Events for Banner Elk Presbyterian Church
REFRESH-INTERVAL;VALUE=DURATION:PT1H
X-Robots-Tag:noindex
X-PUBLISHED-TTL:PT1H
BEGIN:VTIMEZONE
TZID:America/New_York
BEGIN:DAYLIGHT
TZOFFSETFROM:-0500
TZOFFSETTO:-0400
TZNAME:EDT
DTSTART:20250309T070000
END:DAYLIGHT
BEGIN:STANDARD
TZOFFSETFROM:-0400
TZOFFSETTO:-0500
TZNAME:EST
DTSTART:20251102T060000
END:STANDARD
BEGIN:DAYLIGHT
TZOFFSETFROM:-0500
TZOFFSETTO:-0400
TZNAME:EDT
DTSTART:20260308T070000
END:DAYLIGHT
BEGIN:STANDARD
TZOFFSETFROM:-0400
TZOFFSETTO:-0500
TZNAME:EST
DTSTART:20261101T060000
END:STANDARD
BEGIN:DAYLIGHT
TZOFFSETFROM:-0500
TZOFFSETTO:-0400
TZNAME:EDT
DTSTART:20270314T070000
END:DAYLIGHT
BEGIN:STANDARD
TZOFFSETFROM:-0400
TZOFFSETTO:-0500
TZNAME:EST
DTSTART:20271107T060000
END:STANDARD
END:VTIMEZONE
BEGIN:VEVENT
DTSTART;TZID=America/New_York:20260403T180000
DTEND;TZID=America/New_York:20260403T190000
DTSTAMP:20260423T093111
CREATED:20250219T132217Z
LAST-MODIFIED:20260303T121712Z
UID:12450-1775239200-1775242800@bannerelkpresbyterian.org
SUMMARY:Good Friday Community Tenebrae Service
DESCRIPTION:All invited! Music by the choir and soloists\, along with readings\, recount Jesus’ final hours on the cross – through the eyes of witnesses who had direct contact with Jesus. “Tenebrae” is the Latin word for “darkness”. Throughout the service\, the lights grow dimmer and dimmer until the church is in darkness. Worshipers leave in silence and darkness to ponder the impact of Christ’s death. \nThis music service will be lead by the Chancel Choir\, accompanied by piano\, pipe organ\, and guest musicians.
URL:https://bannerelkpresbyterian.org/event/good-friday-community-tenebrae-service/
LOCATION:Banner Elk Presbyterian Church\, 420 College Dr.\, Banner Elk\, NC\, 28604\, United States
CATEGORIES:Services
ATTACH;FMTTYPE=image/jpeg:https://bannerelkpresbyterian.org/wp-content/uploads/2025/02/good-friday.jpg
END:VEVENT
END:VCALENDAR