BEGIN:VCALENDAR
VERSION:2.0
PRODID:-//Banner Elk Presbyterian Church - ECPv6.15.20//NONSGML v1.0//EN
CALSCALE:GREGORIAN
METHOD:PUBLISH
X-WR-CALNAME:Banner Elk Presbyterian Church
X-ORIGINAL-URL:https://bannerelkpresbyterian.org
X-WR-CALDESC:Events for Banner Elk Presbyterian Church
REFRESH-INTERVAL;VALUE=DURATION:PT1H
X-Robots-Tag:noindex
X-PUBLISHED-TTL:PT1H
BEGIN:VTIMEZONE
TZID:America/New_York
BEGIN:DAYLIGHT
TZOFFSETFROM:-0500
TZOFFSETTO:-0400
TZNAME:EDT
DTSTART:20250309T070000
END:DAYLIGHT
BEGIN:STANDARD
TZOFFSETFROM:-0400
TZOFFSETTO:-0500
TZNAME:EST
DTSTART:20251102T060000
END:STANDARD
BEGIN:DAYLIGHT
TZOFFSETFROM:-0500
TZOFFSETTO:-0400
TZNAME:EDT
DTSTART:20260308T070000
END:DAYLIGHT
BEGIN:STANDARD
TZOFFSETFROM:-0400
TZOFFSETTO:-0500
TZNAME:EST
DTSTART:20261101T060000
END:STANDARD
BEGIN:DAYLIGHT
TZOFFSETFROM:-0500
TZOFFSETTO:-0400
TZNAME:EDT
DTSTART:20270314T070000
END:DAYLIGHT
BEGIN:STANDARD
TZOFFSETFROM:-0400
TZOFFSETTO:-0500
TZNAME:EST
DTSTART:20271107T060000
END:STANDARD
END:VTIMEZONE
BEGIN:VEVENT
DTSTART;TZID=America/New_York:20260218T120000
DTEND;TZID=America/New_York:20260218T130000
DTSTAMP:20260423T123815
CREATED:20260107T131056Z
LAST-MODIFIED:20260108T135109Z
UID:12444-1771416000-1771419600@bannerelkpresbyterian.org
SUMMARY:Community Ash Wednesday Service
DESCRIPTION:Begin the season of Lent together by singing\, praying\, hearing scripture and a brief message\, and receiving the imposition of ashes. The service will last 30-40 minutes. All are invited.
URL:https://bannerelkpresbyterian.org/event/community-ash-wednesday-service/
LOCATION:Banner Elk Presbyterian Church\, 420 College Dr.\, Banner Elk\, NC\, 28604\, United States
CATEGORIES:Services
ATTACH;FMTTYPE=image/jpeg:https://bannerelkpresbyterian.org/wp-content/uploads/2025/02/ash-wed1.jpg
END:VEVENT
END:VCALENDAR