BEGIN:VCALENDAR
VERSION:2.0
PRODID:-//Banner Elk Presbyterian Church - ECPv6.15.20//NONSGML v1.0//EN
CALSCALE:GREGORIAN
METHOD:PUBLISH
X-WR-CALNAME:Banner Elk Presbyterian Church
X-ORIGINAL-URL:https://bannerelkpresbyterian.org
X-WR-CALDESC:Events for Banner Elk Presbyterian Church
REFRESH-INTERVAL;VALUE=DURATION:PT1H
X-Robots-Tag:noindex
X-PUBLISHED-TTL:PT1H
BEGIN:VTIMEZONE
TZID:America/New_York
BEGIN:DAYLIGHT
TZOFFSETFROM:-0500
TZOFFSETTO:-0400
TZNAME:EDT
DTSTART:20250309T070000
END:DAYLIGHT
BEGIN:STANDARD
TZOFFSETFROM:-0400
TZOFFSETTO:-0500
TZNAME:EST
DTSTART:20251102T060000
END:STANDARD
BEGIN:DAYLIGHT
TZOFFSETFROM:-0500
TZOFFSETTO:-0400
TZNAME:EDT
DTSTART:20260308T070000
END:DAYLIGHT
BEGIN:STANDARD
TZOFFSETFROM:-0400
TZOFFSETTO:-0500
TZNAME:EST
DTSTART:20261101T060000
END:STANDARD
BEGIN:DAYLIGHT
TZOFFSETFROM:-0500
TZOFFSETTO:-0400
TZNAME:EDT
DTSTART:20270314T070000
END:DAYLIGHT
BEGIN:STANDARD
TZOFFSETFROM:-0400
TZOFFSETTO:-0500
TZNAME:EST
DTSTART:20271107T060000
END:STANDARD
END:VTIMEZONE
BEGIN:VEVENT
DTSTART;TZID=America/New_York:20260319T180000
DTEND;TZID=America/New_York:20260319T190000
DTSTAMP:20260420T195539
CREATED:20260216T183932Z
LAST-MODIFIED:20260220T135645Z
UID:12843-1773943200-1773946800@bannerelkpresbyterian.org
SUMMARY:Yale Spizzwinks A Cappella Group Concert
DESCRIPTION:The Spizzwinks of Yale University is the World’s Oldest Underclassman A Cappella Group\, performing concerts all over the world. Since 1914\, they’ve entertained audiences around the world with original arrangements of well-known songs and signature humor. Now in their 112th year\, the ’Winks are producing another album and touring throughout the US\, Peru\, and New Zealand. They are making a rare stop in North Carolina\, so don’t miss them! Free admission with donations collected to support their tour and educational outreach. Doors open 5:30 PM. Read more about this special concert!
URL:https://bannerelkpresbyterian.org/event/yale-spizzwinks-a-cappella-group-concert/
LOCATION:Banner Elk Presbyterian Church\, 420 College Dr.\, Banner Elk\, NC\, 28604\, United States
CATEGORIES:Concert / Musical
ATTACH;FMTTYPE=image/jpeg:https://bannerelkpresbyterian.org/wp-content/uploads/2026/02/Spizzwinks.jpg
END:VEVENT
END:VCALENDAR