BEGIN:VCALENDAR
VERSION:2.0
PRODID:-//Banner Elk Presbyterian Church - ECPv6.15.20//NONSGML v1.0//EN
CALSCALE:GREGORIAN
METHOD:PUBLISH
X-ORIGINAL-URL:https://bannerelkpresbyterian.org
X-WR-CALDESC:Events for Banner Elk Presbyterian Church
REFRESH-INTERVAL;VALUE=DURATION:PT1H
X-Robots-Tag:noindex
X-PUBLISHED-TTL:PT1H
BEGIN:VTIMEZONE
TZID:America/New_York
BEGIN:DAYLIGHT
TZOFFSETFROM:-0500
TZOFFSETTO:-0400
TZNAME:EDT
DTSTART:20250309T070000
END:DAYLIGHT
BEGIN:STANDARD
TZOFFSETFROM:-0400
TZOFFSETTO:-0500
TZNAME:EST
DTSTART:20251102T060000
END:STANDARD
BEGIN:DAYLIGHT
TZOFFSETFROM:-0500
TZOFFSETTO:-0400
TZNAME:EDT
DTSTART:20260308T070000
END:DAYLIGHT
BEGIN:STANDARD
TZOFFSETFROM:-0400
TZOFFSETTO:-0500
TZNAME:EST
DTSTART:20261101T060000
END:STANDARD
BEGIN:DAYLIGHT
TZOFFSETFROM:-0500
TZOFFSETTO:-0400
TZNAME:EDT
DTSTART:20270314T070000
END:DAYLIGHT
BEGIN:STANDARD
TZOFFSETFROM:-0400
TZOFFSETTO:-0500
TZNAME:EST
DTSTART:20271107T060000
END:STANDARD
END:VTIMEZONE
BEGIN:VEVENT
DTSTART;TZID=America/New_York:20261205T150000
DTEND;TZID=America/New_York:20261205T160000
DTSTAMP:20260421T002745
CREATED:20240813T150356Z
LAST-MODIFIED:20260204T132856Z
UID:12278-1796482800-1796486400@bannerelkpresbyterian.org
SUMMARY:Community Carol Sing
DESCRIPTION:All are invited to join a festive sing-along of familiar Christmas carols in the sanctuary of the historic Banner Elk Presbyterian Church. The third annual Community Carol Sing is a 45-minute casual service that includes a dozen favorite songs\, ranging from White Christmas to Joy to the World\, that all ages will enjoy. A popular holiday tradition – part of “A Small Town Christmas” celebration in Banner Elk! Free admission.\nGet details here.
URL:https://bannerelkpresbyterian.org/event/community-carol-sing/
LOCATION:Banner Elk Presbyterian Church\, 420 College Dr.\, Banner Elk\, NC\, 28604\, United States
CATEGORIES:Concert / Musical
ATTACH;FMTTYPE=image/jpeg:https://bannerelkpresbyterian.org/wp-content/uploads/2024/08/community-carol-sing-BannerElk.jpg
END:VEVENT
END:VCALENDAR